BEGIN:VCALENDAR
VERSION:2.0
PRODID:-//NN Business News - ECPv6.15.20//NONSGML v1.0//EN
CALSCALE:GREGORIAN
METHOD:PUBLISH
X-ORIGINAL-URL:https://nnbusinessnews.co.uk
X-WR-CALDESC:Events for NN Business News
REFRESH-INTERVAL;VALUE=DURATION:PT1H
X-Robots-Tag:noindex
X-PUBLISHED-TTL:PT1H
BEGIN:VTIMEZONE
TZID:Europe/London
BEGIN:DAYLIGHT
TZOFFSETFROM:+0000
TZOFFSETTO:+0100
TZNAME:BST
DTSTART:20250330T010000
END:DAYLIGHT
BEGIN:STANDARD
TZOFFSETFROM:+0100
TZOFFSETTO:+0000
TZNAME:GMT
DTSTART:20251026T010000
END:STANDARD
BEGIN:DAYLIGHT
TZOFFSETFROM:+0000
TZOFFSETTO:+0100
TZNAME:BST
DTSTART:20260329T010000
END:DAYLIGHT
BEGIN:STANDARD
TZOFFSETFROM:+0100
TZOFFSETTO:+0000
TZNAME:GMT
DTSTART:20261025T010000
END:STANDARD
BEGIN:DAYLIGHT
TZOFFSETFROM:+0000
TZOFFSETTO:+0100
TZNAME:BST
DTSTART:20270328T010000
END:DAYLIGHT
BEGIN:STANDARD
TZOFFSETFROM:+0100
TZOFFSETTO:+0000
TZNAME:GMT
DTSTART:20271031T010000
END:STANDARD
END:VTIMEZONE
BEGIN:VEVENT
DTSTART;TZID=Europe/London:20260408T080000
DTEND;TZID=Europe/London:20260619T170000
DTSTAMP:20260423T223731
CREATED:20260401T134412Z
LAST-MODIFIED:20260422T155459Z
UID:264-1775635200-1781888400@nnbusinessnews.co.uk
SUMMARY:Northamptonshire Business Awards open for entry
DESCRIPTION:The Northamptonshire Business Awards return on Friday\, 11 September 2026\, at Sywell Aerodrome\, with Wilson Browne Solicitors as headline sponsor. \nEnter here – https://northamptonshire.awardsplatform.com/
URL:https://nnbusinessnews.co.uk/event/northamptonshire-business-awards-open-for-entry/
LOCATION:Entry Online
ORGANIZER;CN="Northamptonshire Chamber of Commerce":MAILTO:events@northants-chamber.co.uk
END:VEVENT
BEGIN:VEVENT
DTSTART;TZID=Europe/London:20260507T100000
DTEND;TZID=Europe/London:20260507T120000
DTSTAMP:20260423T223731
CREATED:20260401T134032Z
LAST-MODIFIED:20260411T123749Z
UID:262-1778148000-1778155200@nnbusinessnews.co.uk
SUMMARY:Business Buzz Kettering
DESCRIPTION:Informal mix and mingle business networking. \nMore information can be found here
URL:https://nnbusinessnews.co.uk/event/business-buzz-kettering/
LOCATION:Business Buzz Kettering\, Wicksteed Park\, Barton Road\, Kettering\, NN15 6NJ\, United Kingdom
END:VEVENT
BEGIN:VEVENT
DTSTART;TZID=Europe/London:20260507T190000
DTEND;TZID=Europe/London:20260507T203000
DTSTAMP:20260423T223731
CREATED:20260411T124132Z
LAST-MODIFIED:20260411T124248Z
UID:708-1778180400-1778185800@nnbusinessnews.co.uk
SUMMARY:NNBN Networking Kettering
DESCRIPTION:NNBN monthly face to face networking is open to members and visitors! \n\n\n\nOur networking meeting runs from 7.00 pm till 8.30 pm. Members can book for free as part of their membership. \nWhat is included: \nAn evening of open networking\, member presentation\, testimonials\, 60 second business intro and much more! \nMembers – Please bring your banners\, leaflets and business cards! \nWe have the following ticket options: \nMember ticket: FREE \nVisitor ticket: £10 \n\nBOOK HERE
URL:https://nnbusinessnews.co.uk/event/nnbn-networking-kettering/
LOCATION:Kettering Park Hotel & Spa\, 1430 Kettering Parkway\, Kettering\, Northamptonshire\, NN15 6XT\, United Kingdom
ORGANIZER;CN="NNBN - The Northamptonshire Business Network":MAILTO:hello@nnbn.co.uk
END:VEVENT
END:VCALENDAR