BEGIN:VCALENDAR
VERSION:2.0
PRODID:-//NN Business News - ECPv6.15.20//NONSGML v1.0//EN
CALSCALE:GREGORIAN
METHOD:PUBLISH
X-ORIGINAL-URL:https://nnbusinessnews.co.uk
X-WR-CALDESC:Events for NN Business News
REFRESH-INTERVAL;VALUE=DURATION:PT1H
X-Robots-Tag:noindex
X-PUBLISHED-TTL:PT1H
BEGIN:VTIMEZONE
TZID:Europe/London
BEGIN:DAYLIGHT
TZOFFSETFROM:+0000
TZOFFSETTO:+0100
TZNAME:BST
DTSTART:20250330T010000
END:DAYLIGHT
BEGIN:STANDARD
TZOFFSETFROM:+0100
TZOFFSETTO:+0000
TZNAME:GMT
DTSTART:20251026T010000
END:STANDARD
BEGIN:DAYLIGHT
TZOFFSETFROM:+0000
TZOFFSETTO:+0100
TZNAME:BST
DTSTART:20260329T010000
END:DAYLIGHT
BEGIN:STANDARD
TZOFFSETFROM:+0100
TZOFFSETTO:+0000
TZNAME:GMT
DTSTART:20261025T010000
END:STANDARD
BEGIN:DAYLIGHT
TZOFFSETFROM:+0000
TZOFFSETTO:+0100
TZNAME:BST
DTSTART:20270328T010000
END:DAYLIGHT
BEGIN:STANDARD
TZOFFSETFROM:+0100
TZOFFSETTO:+0000
TZNAME:GMT
DTSTART:20271031T010000
END:STANDARD
END:VTIMEZONE
BEGIN:VEVENT
DTSTART;TZID=Europe/London:20260408T080000
DTEND;TZID=Europe/London:20260619T170000
DTSTAMP:20260423T223906
CREATED:20260401T134412Z
LAST-MODIFIED:20260422T155459Z
UID:264-1775635200-1781888400@nnbusinessnews.co.uk
SUMMARY:Northamptonshire Business Awards open for entry
DESCRIPTION:The Northamptonshire Business Awards return on Friday\, 11 September 2026\, at Sywell Aerodrome\, with Wilson Browne Solicitors as headline sponsor. \nEnter here – https://northamptonshire.awardsplatform.com/
URL:https://nnbusinessnews.co.uk/event/northamptonshire-business-awards-open-for-entry/
LOCATION:Entry Online
ORGANIZER;CN="Northamptonshire Chamber of Commerce":MAILTO:events@northants-chamber.co.uk
END:VEVENT
BEGIN:VEVENT
DTSTART;TZID=Europe/London:20260513T190000
DTEND;TZID=Europe/London:20260513T210000
DTSTAMP:20260423T223906
CREATED:20260414T203245Z
LAST-MODIFIED:20260414T203245Z
UID:771-1778698800-1778706000@nnbusinessnews.co.uk
SUMMARY:Open 4 Business on NLive Radio 106.9FM
DESCRIPTION:Listen to host Simon Cox as he talks to local businesses about what they do in the County. \nListen by visiting the NLive Radio website or asking your smart speaker to “Play NLive Radio” \nIf you would like to be a guest on the show with Simon\, book your place here: https://cal.com/simonsdiary \nListen to previous shows by visiting https://nliveradio.com/open4business
URL:https://nnbusinessnews.co.uk/event/open-4-business-on-nlive-radio-106-9fm-5/
LOCATION:Online
END:VEVENT
END:VCALENDAR