BEGIN:VCALENDAR
VERSION:2.0
PRODID:-//NN Business News - ECPv6.15.20//NONSGML v1.0//EN
CALSCALE:GREGORIAN
METHOD:PUBLISH
X-WR-CALNAME:NN Business News
X-ORIGINAL-URL:https://nnbusinessnews.co.uk
X-WR-CALDESC:Events for NN Business News
REFRESH-INTERVAL;VALUE=DURATION:PT1H
X-Robots-Tag:noindex
X-PUBLISHED-TTL:PT1H
BEGIN:VTIMEZONE
TZID:Europe/London
BEGIN:DAYLIGHT
TZOFFSETFROM:+0000
TZOFFSETTO:+0100
TZNAME:BST
DTSTART:20250330T010000
END:DAYLIGHT
BEGIN:STANDARD
TZOFFSETFROM:+0100
TZOFFSETTO:+0000
TZNAME:GMT
DTSTART:20251026T010000
END:STANDARD
BEGIN:DAYLIGHT
TZOFFSETFROM:+0000
TZOFFSETTO:+0100
TZNAME:BST
DTSTART:20260329T010000
END:DAYLIGHT
BEGIN:STANDARD
TZOFFSETFROM:+0100
TZOFFSETTO:+0000
TZNAME:GMT
DTSTART:20261025T010000
END:STANDARD
BEGIN:DAYLIGHT
TZOFFSETFROM:+0000
TZOFFSETTO:+0100
TZNAME:BST
DTSTART:20270328T010000
END:DAYLIGHT
BEGIN:STANDARD
TZOFFSETFROM:+0100
TZOFFSETTO:+0000
TZNAME:GMT
DTSTART:20271031T010000
END:STANDARD
END:VTIMEZONE
BEGIN:VEVENT
DTSTART;TZID=Europe/London:20260429T190000
DTEND;TZID=Europe/London:20260429T210000
DTSTAMP:20260424T020920
CREATED:20260414T200226Z
LAST-MODIFIED:20260414T200342Z
UID:760-1777489200-1777496400@nnbusinessnews.co.uk
SUMMARY:Open 4 Business on NLive Radio 106.9FM
DESCRIPTION:Listen to host Simon Cox as he talks to local businesses about what they do in the County. \nListen by visiting the NLive Radio website or asking your smart speaker to “Play NLive Radio” \nIf you would like to be a guest on the show with Simon\, book your place here: https://cal.com/simonsdiary \nListen to previous shows by visiting https://nliveradio.com/open4business
URL:https://nnbusinessnews.co.uk/event/open-4-business-on-nlive-radio-106-9fm-3/
LOCATION:Online
END:VEVENT
BEGIN:VEVENT
DTSTART;TZID=Europe/London:20260424T100000
DTEND;TZID=Europe/London:20260424T113000
DTSTAMP:20260424T020920
CREATED:20260414T204732Z
LAST-MODIFIED:20260414T204732Z
UID:783-1777024800-1777030200@nnbusinessnews.co.uk
SUMMARY:Vulcan Sessions: Employment law changes in 2026-2027 with Haus of HR
DESCRIPTION:April 2026 marks the beginning of one of the biggest shifts in UK employment law in a generation. \n\n\n\n\nSession Overview: Employment Law Changes in 2026-2027: \nApril 2026 marks the beginning of one of the biggest shifts in UK employment law in a generation\, as the Employment Rights Act 2025 starts to take effect. Multiple major reforms land this April\, with further changes continuing into late 2026 and 2027. These changes introduce substantial new rights for workers and new obligations and risks for employers. \nThis session provides a clear\, practical overview of: \n\nThe April 2026 changes and what employers must action immediately\nKey reforms due later in 2026 and into 2027\nHow these changes affect HR processes\, policies\, contracts\, payroll and manager training\nReal‑world implications for SMEs\, especially around sickness absence\, family leave\, whistleblowing\, dismissal risk and union activity\nA roadmap to ensure employers remain compliant and prepared for the years ahead\n\nBio: \nRachel Collar is an award‑winning HR leader with over 25 years’ experience delivering global HR strategy – often within complex\, highly regulated and unionised environments. As the Founder of Haus of HR\, a leading Northamptonshire‑based HR consultancy\, she brings deep expertise in employment law\, employee relations and workforce change. A Fellow of the CIPD\, Rachel specialises in helping organisations navigate legislative reform\, strengthen compliance and build robust people frameworks. Rachel is known for translating complex employment law shifts into practical actions that empower employers to stay compliant\, confident and prepared. \n\nBook your tickets here: https://vulcanworks.co.uk/event/vulcan-sessions-employment-law-changes-in-2026-2027-with-haus-of-hr/
URL:https://nnbusinessnews.co.uk/event/vulcan-sessions-employment-law-changes-in-2026-2027-with-haus-of-hr/
LOCATION:Vulcan Works\, 34-38 Guildhall Road\, Northampton\, Northants\, NN1 1EW\, United Kingdom
END:VEVENT
BEGIN:VEVENT
DTSTART;TZID=Europe/London:20260424T090000
DTEND;TZID=Europe/London:20260424T170000
DTSTAMP:20260424T020920
CREATED:20260414T204331Z
LAST-MODIFIED:20260414T204412Z
UID:778-1777021200-1777050000@nnbusinessnews.co.uk
SUMMARY:Vulcan Works Open Day
DESCRIPTION:Join us at Vulcan Works – Offices & Coworking Space for a day filled with networking\, and discovering new opportunities. Whether you’re a freelancer\, entrepreneur\, or just curious about coworking spaces\, this event is for you! \n\n\nExplore our modern facilities\, tour our offices and meet our vibrant community. Don’t miss this chance to see firsthand what makes Vulcan Works the perfect place to work and connect. \nMark your calendar and come along to Vulcan Works Open Day – we can’t wait to show you around! \nRead more here: https://vulcanworks.co.uk/event/vulcan-works-open-day-3/
URL:https://nnbusinessnews.co.uk/event/vulcan-works-open-day/
LOCATION:Vulcan Works\, 34-38 Guildhall Road\, Northampton\, Northants\, NN1 1EW\, United Kingdom
END:VEVENT
BEGIN:VEVENT
DTSTART;TZID=Europe/London:20260422T190000
DTEND;TZID=Europe/London:20260422T203000
DTSTAMP:20260424T020920
CREATED:20260414T194445Z
LAST-MODIFIED:20260414T200431Z
UID:751-1776884400-1776889800@nnbusinessnews.co.uk
SUMMARY:Open 4 Business on NLive Radio 106.9FM
DESCRIPTION:Listen to host Simon Cox as he talks to local businesses about what they do in the County. \nListen by visiting the NLive Radio website or asking your smart speaker to “Play NLive Radio” \nIf you would like to be a guest on the show with Simon\, book your place here: https://cal.com/simonsdiary \nListen to previous shows by visiting https://nliveradio.com/open4business
URL:https://nnbusinessnews.co.uk/event/open-4-business-on-nlive-radio-106-9fm-2/
LOCATION:Online
END:VEVENT
BEGIN:VEVENT
DTSTART;TZID=Europe/London:20260417T100000
DTEND;TZID=Europe/London:20260417T110000
DTSTAMP:20260424T020920
CREATED:20260401T134918Z
LAST-MODIFIED:20260413T113826Z
UID:276-1776420000-1776423600@nnbusinessnews.co.uk
SUMMARY:Bank of England Round Online Table with Northamptonshire Chamber of Commerce
DESCRIPTION:Join Jamie Jordan\, Deputy Agent for the Bank of England’s East Midlands Agency\, for an update on the UK’s economic outlook and the latest monetary policy considerations. Jamie will share insights from the Bank’s current assessment of inflation\, growth\, and labour market trends\, drawing on intelligence gathered from businesses across the UK. \nThis session is designed to help local firms understand the forces shaping the economic environment\, what they may mean for business planning\, and how the Bank is engaging with organisations across Milton Keynes and Northamptonshire. Attendees will also have the opportunity to put questions to the Bank directly. \nThis free event is open to members of the Northamptonshire Chamber of Commerce and Milton Keynes Chamber of Commerce only. \nBook your place here
URL:https://nnbusinessnews.co.uk/event/bank-of-england-round-online-table-with-northamptonshire-chamber-of-commerce/
LOCATION:Online
ORGANIZER;CN="Northamptonshire Chamber of Commerce":MAILTO:events@northants-chamber.co.uk
END:VEVENT
BEGIN:VEVENT
DTSTART;TZID=Europe/London:20260415T190000
DTEND;TZID=Europe/London:20260415T210000
DTSTAMP:20260424T020920
CREATED:20260414T194106Z
LAST-MODIFIED:20260414T200412Z
UID:747-1776279600-1776286800@nnbusinessnews.co.uk
SUMMARY:Open 4 Business on NLive Radio 106.9FM
DESCRIPTION:Listen to host Simon Cox as he talks to local businesses about what they do in the County. \nListen by visiting the NLive Radio website or asking your smart speaker to “Play NLive Radio” \nIf you would like to be a guest on the show with Simon\, book your place here: https://cal.com/simonsdiary \nListen to previous shows by visiting https://nliveradio.com/open4business
URL:https://nnbusinessnews.co.uk/event/open-4-business-on-nlive-radio-106-9fm/
END:VEVENT
BEGIN:VEVENT
DTSTART;TZID=Europe/London:20260415T090000
DTEND;TZID=Europe/London:20260415T120000
DTSTAMP:20260424T020920
CREATED:20260401T134802Z
LAST-MODIFIED:20260411T123512Z
UID:274-1776243600-1776254400@nnbusinessnews.co.uk
SUMMARY:International Trade Forum at RS Components
DESCRIPTION:The event supports all business that have an interest in starting\, continuing\, or growing in the world of export and overseas trade. \nThere will  be a panel discussion about current trade insights and an opportunity to have delegate questions put to the panel for their thoughts or to answer specific questions. Any questions will need to be submitted by the delegate prior to the event.
URL:https://nnbusinessnews.co.uk/event/international-trade-forum-at-rs-components/
LOCATION:RS Components\, Lammas Road\, Weldon Industrial Estate\, Corby\, Northamptonshire\, NN17 5JF\, United Kingdom
ORGANIZER;CN="Northamptonshire Chamber of Commerce":MAILTO:events@northants-chamber.co.uk
END:VEVENT
END:VCALENDAR